BEGIN:VCALENDAR
VERSION:2.0
PRODID:-//DUI Victims Center of Kansas - ECPv6.15.20//NONSGML v1.0//EN
CALSCALE:GREGORIAN
METHOD:PUBLISH
X-WR-CALNAME:DUI Victims Center of Kansas
X-ORIGINAL-URL:https://www.duivictimscenterofkansas.com
X-WR-CALDESC:Events for DUI Victims Center of Kansas
REFRESH-INTERVAL;VALUE=DURATION:PT1H
X-Robots-Tag:noindex
X-PUBLISHED-TTL:PT1H
BEGIN:VTIMEZONE
TZID:UTC
BEGIN:STANDARD
TZOFFSETFROM:+0000
TZOFFSETTO:+0000
TZNAME:UTC
DTSTART:20180101T000000
END:STANDARD
END:VTIMEZONE
BEGIN:VEVENT
DTSTART;TZID=UTC:20260226T073000
DTEND;TZID=UTC:20260226T143000
DTSTAMP:20260420T051944
CREATED:20260122T221406Z
LAST-MODIFIED:20260122T224749Z
UID:1603-1772091000-1772116200@www.duivictimscenterofkansas.com
SUMMARY:Teen Drug Summit
DESCRIPTION:
URL:https://www.duivictimscenterofkansas.com/event/teen-drug-summit/
END:VEVENT
BEGIN:VEVENT
DTSTART;TZID=UTC:20260221T100000
DTEND;TZID=UTC:20260221T130000
DTSTAMP:20260420T051944
CREATED:20260109T191434Z
LAST-MODIFIED:20260109T191434Z
UID:1458-1771668000-1771678800@www.duivictimscenterofkansas.com
SUMMARY:2026 Serving Up Support Pickleball Tournament
DESCRIPTION:
URL:https://www.duivictimscenterofkansas.com/event/2026-serving-up-support-pickleball-tournament/
LOCATION:Chicken N Pickle- Wichita\, 1240 W Greenwich Rd.\, Wichita\, KS\, 67206\, United States
ORGANIZER;CN="DUI Victims Center of Kansas":MAILTO:strategy@duivcks.com
END:VEVENT
BEGIN:VEVENT
DTSTART;VALUE=DATE:20260216
DTEND;VALUE=DATE:20260217
DTSTAMP:20260420T051944
CREATED:20260122T221105Z
LAST-MODIFIED:20260122T221105Z
UID:1600-1771200000-1771286399@www.duivictimscenterofkansas.com
SUMMARY:Presidents Day- DUI VCK Office Closed
DESCRIPTION:
URL:https://www.duivictimscenterofkansas.com/event/presidents-day-dui-vck-office-closed/
END:VEVENT
BEGIN:VEVENT
DTSTART;TZID=UTC:20191212T180000
DTEND;TZID=UTC:20191212T210000
DTSTAMP:20260420T051944
CREATED:20190124T051823Z
LAST-MODIFIED:20191031T195659Z
UID:570-1576173600-1576184400@www.duivictimscenterofkansas.com
SUMMARY:Annual Candlelight Vigil of Remembrance and Hope
DESCRIPTION:
URL:https://www.duivictimscenterofkansas.com/event/annual-candlelight-vigil-of-remembrance-and-hope/
LOCATION:St Mary’s Orthodox Church\, 344 S Martinson St\, Wichita\, KS 67213\, KS\, United States
ATTACH;FMTTYPE=image/jpeg:https://www.duivictimscenterofkansas.com/wp-content/uploads/2019/01/candlelight-1.jpg
ORGANIZER;CN="":MAILTO:team@wichitagym.com
END:VEVENT
END:VCALENDAR