BEGIN:VCALENDAR
VERSION:2.0
PRODID:-//DUI Victims Center of Kansas - ECPv6.15.20//NONSGML v1.0//EN
CALSCALE:GREGORIAN
METHOD:PUBLISH
X-WR-CALNAME:DUI Victims Center of Kansas
X-ORIGINAL-URL:https://www.duivictimscenterofkansas.com
X-WR-CALDESC:Events for DUI Victims Center of Kansas
REFRESH-INTERVAL;VALUE=DURATION:PT1H
X-Robots-Tag:noindex
X-PUBLISHED-TTL:PT1H
BEGIN:VTIMEZONE
TZID:UTC
BEGIN:STANDARD
TZOFFSETFROM:+0000
TZOFFSETTO:+0000
TZNAME:UTC
DTSTART:20250101T000000
END:STANDARD
END:VTIMEZONE
BEGIN:VEVENT
DTSTART;TZID=UTC:20260425T110000
DTEND;TZID=UTC:20260425T150000
DTSTAMP:20260419T185940
CREATED:20260122T215739Z
LAST-MODIFIED:20260122T215739Z
UID:1593-1777114800-1777129200@www.duivictimscenterofkansas.com
SUMMARY:Chekiel Wright Legacy Basketball Game
DESCRIPTION:
URL:https://www.duivictimscenterofkansas.com/event/chekiel-wright-legacy-basketball-game/
LOCATION:Fugate Gymnasium- Newman University\, 3100 McCormick Ave.\, Wichita\, KS\, 67213\, United States
ORGANIZER;CN="DUI Victims Center of Kansas":MAILTO:strategy@duivcks.com
END:VEVENT
END:VCALENDAR